BEGIN:VCALENDAR
VERSION:2.0
PRODID:-//DSAWM - ECPv6.15.20//NONSGML v1.0//EN
CALSCALE:GREGORIAN
METHOD:PUBLISH
X-ORIGINAL-URL:https://dsawm.org
X-WR-CALDESC:Events for DSAWM
REFRESH-INTERVAL;VALUE=DURATION:PT1H
X-Robots-Tag:noindex
X-PUBLISHED-TTL:PT1H
BEGIN:VTIMEZONE
TZID:America/Detroit
BEGIN:DAYLIGHT
TZOFFSETFROM:-0500
TZOFFSETTO:-0400
TZNAME:EDT
DTSTART:20250309T070000
END:DAYLIGHT
BEGIN:STANDARD
TZOFFSETFROM:-0400
TZOFFSETTO:-0500
TZNAME:EST
DTSTART:20251102T060000
END:STANDARD
BEGIN:DAYLIGHT
TZOFFSETFROM:-0500
TZOFFSETTO:-0400
TZNAME:EDT
DTSTART:20260308T070000
END:DAYLIGHT
BEGIN:STANDARD
TZOFFSETFROM:-0400
TZOFFSETTO:-0500
TZNAME:EST
DTSTART:20261101T060000
END:STANDARD
BEGIN:DAYLIGHT
TZOFFSETFROM:-0500
TZOFFSETTO:-0400
TZNAME:EDT
DTSTART:20270314T070000
END:DAYLIGHT
BEGIN:STANDARD
TZOFFSETFROM:-0400
TZOFFSETTO:-0500
TZNAME:EST
DTSTART:20271107T060000
END:STANDARD
END:VTIMEZONE
BEGIN:VEVENT
DTSTART;TZID=America/Detroit:20260219T183000
DTEND;TZID=America/Detroit:20260219T193000
DTSTAMP:20260425T104546
CREATED:20260119T194847Z
LAST-MODIFIED:20260119T194849Z
UID:10001759-1771525800-1771529400@dsawm.org
SUMMARY:Lakeshore Mom's Night Out
DESCRIPTION:Mom’s Night Out is a monthly program for mothers raising children with Down syndrome. Each month\, mom’s have the opportunity to enjoy different activities and come together to connect\, share stories\, and support each other. This month’s gathering will be at Teddy Spaghettis! \n\n\n\nPlease email Maggie at lvalley22@gmail.com if you have any questions and to RSVP!
URL:https://dsawm.org/event/lakeshore-moms-night-out-4/
LOCATION:Teddy Spaghettis\, 513 W Pontaluna Rd\, Norton Shores\, Michigan\, 49444\, United States
END:VEVENT
END:VCALENDAR