BEGIN:VCALENDAR
VERSION:2.0
PRODID:-//DSAWM - ECPv6.15.20//NONSGML v1.0//EN
CALSCALE:GREGORIAN
METHOD:PUBLISH
X-ORIGINAL-URL:https://dsawm.org
X-WR-CALDESC:Events for DSAWM
REFRESH-INTERVAL;VALUE=DURATION:PT1H
X-Robots-Tag:noindex
X-PUBLISHED-TTL:PT1H
BEGIN:VTIMEZONE
TZID:America/Detroit
BEGIN:DAYLIGHT
TZOFFSETFROM:-0500
TZOFFSETTO:-0400
TZNAME:EDT
DTSTART:20240310T070000
END:DAYLIGHT
BEGIN:STANDARD
TZOFFSETFROM:-0400
TZOFFSETTO:-0500
TZNAME:EST
DTSTART:20241103T060000
END:STANDARD
BEGIN:DAYLIGHT
TZOFFSETFROM:-0500
TZOFFSETTO:-0400
TZNAME:EDT
DTSTART:20250309T070000
END:DAYLIGHT
BEGIN:STANDARD
TZOFFSETFROM:-0400
TZOFFSETTO:-0500
TZNAME:EST
DTSTART:20251102T060000
END:STANDARD
BEGIN:DAYLIGHT
TZOFFSETFROM:-0500
TZOFFSETTO:-0400
TZNAME:EDT
DTSTART:20260308T070000
END:DAYLIGHT
BEGIN:STANDARD
TZOFFSETFROM:-0400
TZOFFSETTO:-0500
TZNAME:EST
DTSTART:20261101T060000
END:STANDARD
END:VTIMEZONE
BEGIN:VEVENT
DTSTART;TZID=America/Detroit:20250908T180000
DTEND;TZID=America/Detroit:20250908T190000
DTSTAMP:20260425T122427
CREATED:20250420T225901Z
LAST-MODIFIED:20250420T225904Z
UID:10001426-1757354400-1757358000@dsawm.org
SUMMARY:Rapid Runners
DESCRIPTION:This summer\, teens and adults with Down syndrome (ages 12 and up) are invited to join Rapid Runners\, a fun and supportive running program where we train together for the LMCU Bridge Run 5k on September 14th! We meet at the pavilion at Manhattan Park to warm up\, then participants are paired with volunteers to walk/run for an hour around East Grand Rapids. DSAWM covers the cost of the race for both participants and volunteers. \n\n\n\nPlease register HERE if you would like to participate!  \n\n\n\nPlease email program@dsawm.org if you have any questions.
URL:https://dsawm.org/event/rapid-runners-3/2025-09-08/
LOCATION:Manhattan Park\, 3180 Cascade Rd SE\, East Grand Rapids\, MI\, 49506\, United States
GEO:42.9566699;-85.5906988
X-APPLE-STRUCTURED-LOCATION;VALUE=URI;X-ADDRESS=Manhattan Park 3180 Cascade Rd SE East Grand Rapids MI 49506 United States;X-APPLE-RADIUS=500;X-TITLE=3180 Cascade Rd SE:geo:-85.5906988,42.9566699
END:VEVENT
BEGIN:VEVENT
DTSTART;TZID=America/Detroit:20250825T180000
DTEND;TZID=America/Detroit:20250825T190000
DTSTAMP:20260425T122428
CREATED:20250420T225901Z
LAST-MODIFIED:20250420T225904Z
UID:10001425-1756144800-1756148400@dsawm.org
SUMMARY:Rapid Runners
DESCRIPTION:This summer\, teens and adults with Down syndrome (ages 12 and up) are invited to join Rapid Runners\, a fun and supportive running program where we train together for the LMCU Bridge Run 5k on September 14th! We meet at the pavilion at Manhattan Park to warm up\, then participants are paired with volunteers to walk/run for an hour around East Grand Rapids. DSAWM covers the cost of the race for both participants and volunteers. \n\n\n\nPlease register HERE if you would like to participate!  \n\n\n\nPlease email program@dsawm.org if you have any questions.
URL:https://dsawm.org/event/rapid-runners-3/2025-08-25/
LOCATION:Manhattan Park\, 3180 Cascade Rd SE\, East Grand Rapids\, MI\, 49506\, United States
GEO:42.9566699;-85.5906988
X-APPLE-STRUCTURED-LOCATION;VALUE=URI;X-ADDRESS=Manhattan Park 3180 Cascade Rd SE East Grand Rapids MI 49506 United States;X-APPLE-RADIUS=500;X-TITLE=3180 Cascade Rd SE:geo:-85.5906988,42.9566699
END:VEVENT
BEGIN:VEVENT
DTSTART;TZID=America/Detroit:20250818T180000
DTEND;TZID=America/Detroit:20250818T190000
DTSTAMP:20260425T122428
CREATED:20250420T225901Z
LAST-MODIFIED:20250420T225904Z
UID:10001424-1755540000-1755543600@dsawm.org
SUMMARY:Rapid Runners
DESCRIPTION:This summer\, teens and adults with Down syndrome (ages 12 and up) are invited to join Rapid Runners\, a fun and supportive running program where we train together for the LMCU Bridge Run 5k on September 14th! We meet at the pavilion at Manhattan Park to warm up\, then participants are paired with volunteers to walk/run for an hour around East Grand Rapids. DSAWM covers the cost of the race for both participants and volunteers. \n\n\n\nPlease register HERE if you would like to participate!  \n\n\n\nPlease email program@dsawm.org if you have any questions.
URL:https://dsawm.org/event/rapid-runners-3/2025-08-18/
LOCATION:Manhattan Park\, 3180 Cascade Rd SE\, East Grand Rapids\, MI\, 49506\, United States
GEO:42.9566699;-85.5906988
X-APPLE-STRUCTURED-LOCATION;VALUE=URI;X-ADDRESS=Manhattan Park 3180 Cascade Rd SE East Grand Rapids MI 49506 United States;X-APPLE-RADIUS=500;X-TITLE=3180 Cascade Rd SE:geo:-85.5906988,42.9566699
END:VEVENT
BEGIN:VEVENT
DTSTART;TZID=America/Detroit:20250811T180000
DTEND;TZID=America/Detroit:20250811T190000
DTSTAMP:20260425T122428
CREATED:20250420T225901Z
LAST-MODIFIED:20250420T225904Z
UID:10001423-1754935200-1754938800@dsawm.org
SUMMARY:Rapid Runners
DESCRIPTION:This summer\, teens and adults with Down syndrome (ages 12 and up) are invited to join Rapid Runners\, a fun and supportive running program where we train together for the LMCU Bridge Run 5k on September 14th! We meet at the pavilion at Manhattan Park to warm up\, then participants are paired with volunteers to walk/run for an hour around East Grand Rapids. DSAWM covers the cost of the race for both participants and volunteers. \n\n\n\nPlease register HERE if you would like to participate!  \n\n\n\nPlease email program@dsawm.org if you have any questions.
URL:https://dsawm.org/event/rapid-runners-3/2025-08-11/
LOCATION:Manhattan Park\, 3180 Cascade Rd SE\, East Grand Rapids\, MI\, 49506\, United States
GEO:42.9566699;-85.5906988
X-APPLE-STRUCTURED-LOCATION;VALUE=URI;X-ADDRESS=Manhattan Park 3180 Cascade Rd SE East Grand Rapids MI 49506 United States;X-APPLE-RADIUS=500;X-TITLE=3180 Cascade Rd SE:geo:-85.5906988,42.9566699
END:VEVENT
BEGIN:VEVENT
DTSTART;TZID=America/Detroit:20250804T180000
DTEND;TZID=America/Detroit:20250804T190000
DTSTAMP:20260425T122428
CREATED:20250420T225901Z
LAST-MODIFIED:20250420T225904Z
UID:10001422-1754330400-1754334000@dsawm.org
SUMMARY:Rapid Runners
DESCRIPTION:This summer\, teens and adults with Down syndrome (ages 12 and up) are invited to join Rapid Runners\, a fun and supportive running program where we train together for the LMCU Bridge Run 5k on September 14th! We meet at the pavilion at Manhattan Park to warm up\, then participants are paired with volunteers to walk/run for an hour around East Grand Rapids. DSAWM covers the cost of the race for both participants and volunteers. \n\n\n\nPlease register HERE if you would like to participate!  \n\n\n\nPlease email program@dsawm.org if you have any questions.
URL:https://dsawm.org/event/rapid-runners-3/2025-08-04/
LOCATION:Manhattan Park\, 3180 Cascade Rd SE\, East Grand Rapids\, MI\, 49506\, United States
GEO:42.9566699;-85.5906988
X-APPLE-STRUCTURED-LOCATION;VALUE=URI;X-ADDRESS=Manhattan Park 3180 Cascade Rd SE East Grand Rapids MI 49506 United States;X-APPLE-RADIUS=500;X-TITLE=3180 Cascade Rd SE:geo:-85.5906988,42.9566699
END:VEVENT
BEGIN:VEVENT
DTSTART;TZID=America/Detroit:20250728T180000
DTEND;TZID=America/Detroit:20250728T190000
DTSTAMP:20260425T122428
CREATED:20250420T225901Z
LAST-MODIFIED:20250420T225904Z
UID:10001421-1753725600-1753729200@dsawm.org
SUMMARY:Rapid Runners
DESCRIPTION:This summer\, teens and adults with Down syndrome (ages 12 and up) are invited to join Rapid Runners\, a fun and supportive running program where we train together for the LMCU Bridge Run 5k on September 14th! We meet at the pavilion at Manhattan Park to warm up\, then participants are paired with volunteers to walk/run for an hour around East Grand Rapids. DSAWM covers the cost of the race for both participants and volunteers. \n\n\n\nPlease register HERE if you would like to participate!  \n\n\n\nPlease email program@dsawm.org if you have any questions.
URL:https://dsawm.org/event/rapid-runners-3/2025-07-28/
LOCATION:Manhattan Park\, 3180 Cascade Rd SE\, East Grand Rapids\, MI\, 49506\, United States
GEO:42.9566699;-85.5906988
X-APPLE-STRUCTURED-LOCATION;VALUE=URI;X-ADDRESS=Manhattan Park 3180 Cascade Rd SE East Grand Rapids MI 49506 United States;X-APPLE-RADIUS=500;X-TITLE=3180 Cascade Rd SE:geo:-85.5906988,42.9566699
END:VEVENT
BEGIN:VEVENT
DTSTART;TZID=America/Detroit:20250714T180000
DTEND;TZID=America/Detroit:20250714T190000
DTSTAMP:20260425T122428
CREATED:20250420T225901Z
LAST-MODIFIED:20250420T225904Z
UID:10001420-1752516000-1752519600@dsawm.org
SUMMARY:Rapid Runners
DESCRIPTION:This summer\, teens and adults with Down syndrome (ages 12 and up) are invited to join Rapid Runners\, a fun and supportive running program where we train together for the LMCU Bridge Run 5k on September 14th! We meet at the pavilion at Manhattan Park to warm up\, then participants are paired with volunteers to walk/run for an hour around East Grand Rapids. DSAWM covers the cost of the race for both participants and volunteers. \n\n\n\nPlease register HERE if you would like to participate!  \n\n\n\nPlease email program@dsawm.org if you have any questions.
URL:https://dsawm.org/event/rapid-runners-3/2025-07-14/
LOCATION:Manhattan Park\, 3180 Cascade Rd SE\, East Grand Rapids\, MI\, 49506\, United States
GEO:42.9566699;-85.5906988
X-APPLE-STRUCTURED-LOCATION;VALUE=URI;X-ADDRESS=Manhattan Park 3180 Cascade Rd SE East Grand Rapids MI 49506 United States;X-APPLE-RADIUS=500;X-TITLE=3180 Cascade Rd SE:geo:-85.5906988,42.9566699
END:VEVENT
BEGIN:VEVENT
DTSTART;TZID=America/Detroit:20250707T180000
DTEND;TZID=America/Detroit:20250707T190000
DTSTAMP:20260425T122428
CREATED:20250420T225901Z
LAST-MODIFIED:20250420T225904Z
UID:10001419-1751911200-1751914800@dsawm.org
SUMMARY:Rapid Runners
DESCRIPTION:This summer\, teens and adults with Down syndrome (ages 12 and up) are invited to join Rapid Runners\, a fun and supportive running program where we train together for the LMCU Bridge Run 5k on September 14th! We meet at the pavilion at Manhattan Park to warm up\, then participants are paired with volunteers to walk/run for an hour around East Grand Rapids. DSAWM covers the cost of the race for both participants and volunteers. \n\n\n\nPlease register HERE if you would like to participate!  \n\n\n\nPlease email program@dsawm.org if you have any questions.
URL:https://dsawm.org/event/rapid-runners-3/2025-07-07/
LOCATION:Manhattan Park\, 3180 Cascade Rd SE\, East Grand Rapids\, MI\, 49506\, United States
GEO:42.9566699;-85.5906988
X-APPLE-STRUCTURED-LOCATION;VALUE=URI;X-ADDRESS=Manhattan Park 3180 Cascade Rd SE East Grand Rapids MI 49506 United States;X-APPLE-RADIUS=500;X-TITLE=3180 Cascade Rd SE:geo:-85.5906988,42.9566699
END:VEVENT
BEGIN:VEVENT
DTSTART;TZID=America/Detroit:20250623T180000
DTEND;TZID=America/Detroit:20250623T190000
DTSTAMP:20260425T122428
CREATED:20250420T225901Z
LAST-MODIFIED:20250420T225904Z
UID:10001418-1750701600-1750705200@dsawm.org
SUMMARY:Rapid Runners
DESCRIPTION:This summer\, teens and adults with Down syndrome (ages 12 and up) are invited to join Rapid Runners\, a fun and supportive running program where we train together for the LMCU Bridge Run 5k on September 14th! We meet at the pavilion at Manhattan Park to warm up\, then participants are paired with volunteers to walk/run for an hour around East Grand Rapids. DSAWM covers the cost of the race for both participants and volunteers. \n\n\n\nPlease register HERE if you would like to participate!  \n\n\n\nPlease email program@dsawm.org if you have any questions.
URL:https://dsawm.org/event/rapid-runners-3/2025-06-23/
LOCATION:Manhattan Park\, 3180 Cascade Rd SE\, East Grand Rapids\, MI\, 49506\, United States
GEO:42.9566699;-85.5906988
X-APPLE-STRUCTURED-LOCATION;VALUE=URI;X-ADDRESS=Manhattan Park 3180 Cascade Rd SE East Grand Rapids MI 49506 United States;X-APPLE-RADIUS=500;X-TITLE=3180 Cascade Rd SE:geo:-85.5906988,42.9566699
END:VEVENT
BEGIN:VEVENT
DTSTART;TZID=America/Detroit:20250616T180000
DTEND;TZID=America/Detroit:20250616T190000
DTSTAMP:20260425T122428
CREATED:20250420T225901Z
LAST-MODIFIED:20250420T225904Z
UID:10001417-1750096800-1750100400@dsawm.org
SUMMARY:Rapid Runners
DESCRIPTION:This summer\, teens and adults with Down syndrome (ages 12 and up) are invited to join Rapid Runners\, a fun and supportive running program where we train together for the LMCU Bridge Run 5k on September 14th! We meet at the pavilion at Manhattan Park to warm up\, then participants are paired with volunteers to walk/run for an hour around East Grand Rapids. DSAWM covers the cost of the race for both participants and volunteers. \n\n\n\nPlease register HERE if you would like to participate!  \n\n\n\nPlease email program@dsawm.org if you have any questions.
URL:https://dsawm.org/event/rapid-runners-3/2025-06-16/
LOCATION:Manhattan Park\, 3180 Cascade Rd SE\, East Grand Rapids\, MI\, 49506\, United States
GEO:42.9566699;-85.5906988
X-APPLE-STRUCTURED-LOCATION;VALUE=URI;X-ADDRESS=Manhattan Park 3180 Cascade Rd SE East Grand Rapids MI 49506 United States;X-APPLE-RADIUS=500;X-TITLE=3180 Cascade Rd SE:geo:-85.5906988,42.9566699
END:VEVENT
BEGIN:VEVENT
DTSTART;TZID=America/Detroit:20250609T180000
DTEND;TZID=America/Detroit:20250609T190000
DTSTAMP:20260425T122428
CREATED:20250420T225901Z
LAST-MODIFIED:20250420T225904Z
UID:10001416-1749492000-1749495600@dsawm.org
SUMMARY:Rapid Runners
DESCRIPTION:This summer\, teens and adults with Down syndrome (ages 12 and up) are invited to join Rapid Runners\, a fun and supportive running program where we train together for the LMCU Bridge Run 5k on September 14th! We meet at the pavilion at Manhattan Park to warm up\, then participants are paired with volunteers to walk/run for an hour around East Grand Rapids. DSAWM covers the cost of the race for both participants and volunteers. \n\n\n\nPlease register HERE if you would like to participate!  \n\n\n\nPlease email program@dsawm.org if you have any questions.
URL:https://dsawm.org/event/rapid-runners-3/2025-06-09/
LOCATION:Manhattan Park\, 3180 Cascade Rd SE\, East Grand Rapids\, MI\, 49506\, United States
GEO:42.9566699;-85.5906988
X-APPLE-STRUCTURED-LOCATION;VALUE=URI;X-ADDRESS=Manhattan Park 3180 Cascade Rd SE East Grand Rapids MI 49506 United States;X-APPLE-RADIUS=500;X-TITLE=3180 Cascade Rd SE:geo:-85.5906988,42.9566699
END:VEVENT
END:VCALENDAR