BEGIN:VCALENDAR
VERSION:2.0
PRODID:-//DSAWM - ECPv6.15.20//NONSGML v1.0//EN
CALSCALE:GREGORIAN
METHOD:PUBLISH
X-ORIGINAL-URL:https://dsawm.org
X-WR-CALDESC:Events for DSAWM
REFRESH-INTERVAL;VALUE=DURATION:PT1H
X-Robots-Tag:noindex
X-PUBLISHED-TTL:PT1H
BEGIN:VTIMEZONE
TZID:America/Detroit
BEGIN:DAYLIGHT
TZOFFSETFROM:-0500
TZOFFSETTO:-0400
TZNAME:EDT
DTSTART:20250309T070000
END:DAYLIGHT
BEGIN:STANDARD
TZOFFSETFROM:-0400
TZOFFSETTO:-0500
TZNAME:EST
DTSTART:20251102T060000
END:STANDARD
BEGIN:DAYLIGHT
TZOFFSETFROM:-0500
TZOFFSETTO:-0400
TZNAME:EDT
DTSTART:20260308T070000
END:DAYLIGHT
BEGIN:STANDARD
TZOFFSETFROM:-0400
TZOFFSETTO:-0500
TZNAME:EST
DTSTART:20261101T060000
END:STANDARD
BEGIN:DAYLIGHT
TZOFFSETFROM:-0500
TZOFFSETTO:-0400
TZNAME:EDT
DTSTART:20270314T070000
END:DAYLIGHT
BEGIN:STANDARD
TZOFFSETFROM:-0400
TZOFFSETTO:-0500
TZNAME:EST
DTSTART:20271107T060000
END:STANDARD
END:VTIMEZONE
BEGIN:VEVENT
DTSTART;TZID=America/Detroit:20260325T183000
DTEND;TZID=America/Detroit:20260325T193000
DTSTAMP:20260425T104422
CREATED:20260217T174442Z
LAST-MODIFIED:20260217T174443Z
UID:10001795-1774463400-1774467000@dsawm.org
SUMMARY:Kalamazoo Mom's Night Out
DESCRIPTION:Mom’s Night Out is a monthly program for mothers raising children with Down syndrome. Each month\, mom’s have the opportunity to enjoy different activities and come together to connect\, share stories\, and support each other. DSAWM covers the cost for first-time attendees (excluding alcohol). This month’s gathering will be at Joe Shmoe’s Bar & Grill! \n\n\n\nPlease email Mandy at boogrmonkei@aol.com if you have any questions and to RSVP!
URL:https://dsawm.org/event/kalamazoo-moms-night-out-6/
LOCATION:Joe Shmoe’s Bar & Grill\, 7454 N 6th St.\, Kalamazoo\, Michigan\, 49009\, United States
END:VEVENT
END:VCALENDAR