BEGIN:VCALENDAR
VERSION:2.0
PRODID:-//DSAWM - ECPv6.15.20//NONSGML v1.0//EN
CALSCALE:GREGORIAN
METHOD:PUBLISH
X-WR-CALNAME:DSAWM
X-ORIGINAL-URL:https://dsawm.org
X-WR-CALDESC:Events for DSAWM
REFRESH-INTERVAL;VALUE=DURATION:PT1H
X-Robots-Tag:noindex
X-PUBLISHED-TTL:PT1H
BEGIN:VTIMEZONE
TZID:America/Detroit
BEGIN:DAYLIGHT
TZOFFSETFROM:-0500
TZOFFSETTO:-0400
TZNAME:EDT
DTSTART:20250309T070000
END:DAYLIGHT
BEGIN:STANDARD
TZOFFSETFROM:-0400
TZOFFSETTO:-0500
TZNAME:EST
DTSTART:20251102T060000
END:STANDARD
BEGIN:DAYLIGHT
TZOFFSETFROM:-0500
TZOFFSETTO:-0400
TZNAME:EDT
DTSTART:20260308T070000
END:DAYLIGHT
BEGIN:STANDARD
TZOFFSETFROM:-0400
TZOFFSETTO:-0500
TZNAME:EST
DTSTART:20261101T060000
END:STANDARD
BEGIN:DAYLIGHT
TZOFFSETFROM:-0500
TZOFFSETTO:-0400
TZNAME:EDT
DTSTART:20270314T070000
END:DAYLIGHT
BEGIN:STANDARD
TZOFFSETFROM:-0400
TZOFFSETTO:-0500
TZNAME:EST
DTSTART:20271107T060000
END:STANDARD
END:VTIMEZONE
BEGIN:VEVENT
DTSTART;TZID=America/Detroit:20260307T170000
DTEND;TZID=America/Detroit:20260307T190000
DTSTAMP:20260425T085324
CREATED:20260216T192446Z
LAST-MODIFIED:20260216T192449Z
UID:10001792-1772902800-1772910000@dsawm.org
SUMMARY:World Down Syndrome Day Lakeshore Gathering
DESCRIPTION:DSAWM is excited to host a Lakeshore gathering at Grand Fun in Grand Haven on March 7th from 5:00–7:00pm! Come enjoy bowling\, arcade games\, pizza\, and pop while spending time with other DSAWM families and celebrating World Down Syndrome Day. DSAWM will cover the cost of games\, bowling\, and food. All families are welcome so we hope you’ll join us for a great night out!  \n\n\n\nPlease register HERE if you are interested in attending!  \n\n\n\nPlease email program@dsawm.org if you have any questions!
URL:https://dsawm.org/event/world-down-syndrome-day-lakeshore-gathering/
LOCATION:Grand Fun!\, 1051 Jackson St.\, Grand Haven\, Michigan\, 49417\, United States
END:VEVENT
END:VCALENDAR