BEGIN:VCALENDAR
VERSION:2.0
PRODID:-//DSAWM - ECPv6.15.20//NONSGML v1.0//EN
CALSCALE:GREGORIAN
METHOD:PUBLISH
X-WR-CALNAME:DSAWM
X-ORIGINAL-URL:https://dsawm.org
X-WR-CALDESC:Events for DSAWM
REFRESH-INTERVAL;VALUE=DURATION:PT1H
X-Robots-Tag:noindex
X-PUBLISHED-TTL:PT1H
BEGIN:VTIMEZONE
TZID:America/Detroit
BEGIN:DAYLIGHT
TZOFFSETFROM:-0500
TZOFFSETTO:-0400
TZNAME:EDT
DTSTART:20250309T070000
END:DAYLIGHT
BEGIN:STANDARD
TZOFFSETFROM:-0400
TZOFFSETTO:-0500
TZNAME:EST
DTSTART:20251102T060000
END:STANDARD
BEGIN:DAYLIGHT
TZOFFSETFROM:-0500
TZOFFSETTO:-0400
TZNAME:EDT
DTSTART:20260308T070000
END:DAYLIGHT
BEGIN:STANDARD
TZOFFSETFROM:-0400
TZOFFSETTO:-0500
TZNAME:EST
DTSTART:20261101T060000
END:STANDARD
BEGIN:DAYLIGHT
TZOFFSETFROM:-0500
TZOFFSETTO:-0400
TZNAME:EDT
DTSTART:20270314T070000
END:DAYLIGHT
BEGIN:STANDARD
TZOFFSETFROM:-0400
TZOFFSETTO:-0500
TZNAME:EST
DTSTART:20271107T060000
END:STANDARD
END:VTIMEZONE
BEGIN:VEVENT
DTSTART;TZID=America/Detroit:20260629T180000
DTEND;TZID=America/Detroit:20260629T190000
DTSTAMP:20260424T010011
CREATED:20260423T212334Z
LAST-MODIFIED:20260424T014406Z
UID:10001818-1782756000-1782759600@dsawm.org
SUMMARY:Kalamazoo Rapid Runners
DESCRIPTION:This summer\, teens and adults with Down syndrome (ages 12 and up) are invited to join Rapid Runners\, a fun and supportive program where we train together for the Bronson Children’s Hospital 5K which is on September 27th! Although the program is called Rapid Runners\, there is absolutely no requirement for the participants to run. Participants can choose to walk or do a mix of walking and running at their own pace. We will meet at Celery Flats park on Mondays from 6pm-7pm each week to train. Participants are paired with volunteers for support and to build confidence. \n\n\n\nIndividuals with Down syndrome please register HERE if you are interested in participating! \n\n\n\nVolunteers please register HERE if you are interested in participating!  \n\n\n\nPlease email program@dsawm.org if you have any questions!
URL:https://dsawm.org/event/kalamazoo-rapid-runners/2026-06-29/
LOCATION:Celery Flats Park\, 7328 Garden Ln\, Portage\, Michigan\, 49002\, United States
END:VEVENT
BEGIN:VEVENT
DTSTART;TZID=America/Detroit:20260706T180000
DTEND;TZID=America/Detroit:20260706T190000
DTSTAMP:20260424T010011
CREATED:20260423T212334Z
LAST-MODIFIED:20260424T014406Z
UID:10001819-1783360800-1783364400@dsawm.org
SUMMARY:Kalamazoo Rapid Runners
DESCRIPTION:This summer\, teens and adults with Down syndrome (ages 12 and up) are invited to join Rapid Runners\, a fun and supportive program where we train together for the Bronson Children’s Hospital 5K which is on September 27th! Although the program is called Rapid Runners\, there is absolutely no requirement for the participants to run. Participants can choose to walk or do a mix of walking and running at their own pace. We will meet at Celery Flats park on Mondays from 6pm-7pm each week to train. Participants are paired with volunteers for support and to build confidence. \n\n\n\nIndividuals with Down syndrome please register HERE if you are interested in participating! \n\n\n\nVolunteers please register HERE if you are interested in participating!  \n\n\n\nPlease email program@dsawm.org if you have any questions!
URL:https://dsawm.org/event/kalamazoo-rapid-runners/2026-07-06/
LOCATION:Celery Flats Park\, 7328 Garden Ln\, Portage\, Michigan\, 49002\, United States
END:VEVENT
BEGIN:VEVENT
DTSTART;TZID=America/Detroit:20260713T180000
DTEND;TZID=America/Detroit:20260713T190000
DTSTAMP:20260424T010011
CREATED:20260423T212334Z
LAST-MODIFIED:20260424T014406Z
UID:10001820-1783965600-1783969200@dsawm.org
SUMMARY:Kalamazoo Rapid Runners
DESCRIPTION:This summer\, teens and adults with Down syndrome (ages 12 and up) are invited to join Rapid Runners\, a fun and supportive program where we train together for the Bronson Children’s Hospital 5K which is on September 27th! Although the program is called Rapid Runners\, there is absolutely no requirement for the participants to run. Participants can choose to walk or do a mix of walking and running at their own pace. We will meet at Celery Flats park on Mondays from 6pm-7pm each week to train. Participants are paired with volunteers for support and to build confidence. \n\n\n\nIndividuals with Down syndrome please register HERE if you are interested in participating! \n\n\n\nVolunteers please register HERE if you are interested in participating!  \n\n\n\nPlease email program@dsawm.org if you have any questions!
URL:https://dsawm.org/event/kalamazoo-rapid-runners/2026-07-13/
LOCATION:Celery Flats Park\, 7328 Garden Ln\, Portage\, Michigan\, 49002\, United States
END:VEVENT
BEGIN:VEVENT
DTSTART;TZID=America/Detroit:20260720T180000
DTEND;TZID=America/Detroit:20260720T190000
DTSTAMP:20260424T010011
CREATED:20260423T212334Z
LAST-MODIFIED:20260424T014406Z
UID:10001821-1784570400-1784574000@dsawm.org
SUMMARY:Kalamazoo Rapid Runners
DESCRIPTION:This summer\, teens and adults with Down syndrome (ages 12 and up) are invited to join Rapid Runners\, a fun and supportive program where we train together for the Bronson Children’s Hospital 5K which is on September 27th! Although the program is called Rapid Runners\, there is absolutely no requirement for the participants to run. Participants can choose to walk or do a mix of walking and running at their own pace. We will meet at Celery Flats park on Mondays from 6pm-7pm each week to train. Participants are paired with volunteers for support and to build confidence. \n\n\n\nIndividuals with Down syndrome please register HERE if you are interested in participating! \n\n\n\nVolunteers please register HERE if you are interested in participating!  \n\n\n\nPlease email program@dsawm.org if you have any questions!
URL:https://dsawm.org/event/kalamazoo-rapid-runners/2026-07-20/
LOCATION:Celery Flats Park\, 7328 Garden Ln\, Portage\, Michigan\, 49002\, United States
END:VEVENT
BEGIN:VEVENT
DTSTART;TZID=America/Detroit:20260727T180000
DTEND;TZID=America/Detroit:20260727T190000
DTSTAMP:20260424T010011
CREATED:20260423T212334Z
LAST-MODIFIED:20260424T014406Z
UID:10001822-1785175200-1785178800@dsawm.org
SUMMARY:Kalamazoo Rapid Runners
DESCRIPTION:This summer\, teens and adults with Down syndrome (ages 12 and up) are invited to join Rapid Runners\, a fun and supportive program where we train together for the Bronson Children’s Hospital 5K which is on September 27th! Although the program is called Rapid Runners\, there is absolutely no requirement for the participants to run. Participants can choose to walk or do a mix of walking and running at their own pace. We will meet at Celery Flats park on Mondays from 6pm-7pm each week to train. Participants are paired with volunteers for support and to build confidence. \n\n\n\nIndividuals with Down syndrome please register HERE if you are interested in participating! \n\n\n\nVolunteers please register HERE if you are interested in participating!  \n\n\n\nPlease email program@dsawm.org if you have any questions!
URL:https://dsawm.org/event/kalamazoo-rapid-runners/2026-07-27/
LOCATION:Celery Flats Park\, 7328 Garden Ln\, Portage\, Michigan\, 49002\, United States
END:VEVENT
BEGIN:VEVENT
DTSTART;TZID=America/Detroit:20260803T180000
DTEND;TZID=America/Detroit:20260803T190000
DTSTAMP:20260424T010011
CREATED:20260423T212334Z
LAST-MODIFIED:20260424T014406Z
UID:10001823-1785780000-1785783600@dsawm.org
SUMMARY:Kalamazoo Rapid Runners
DESCRIPTION:This summer\, teens and adults with Down syndrome (ages 12 and up) are invited to join Rapid Runners\, a fun and supportive program where we train together for the Bronson Children’s Hospital 5K which is on September 27th! Although the program is called Rapid Runners\, there is absolutely no requirement for the participants to run. Participants can choose to walk or do a mix of walking and running at their own pace. We will meet at Celery Flats park on Mondays from 6pm-7pm each week to train. Participants are paired with volunteers for support and to build confidence. \n\n\n\nIndividuals with Down syndrome please register HERE if you are interested in participating! \n\n\n\nVolunteers please register HERE if you are interested in participating!  \n\n\n\nPlease email program@dsawm.org if you have any questions!
URL:https://dsawm.org/event/kalamazoo-rapid-runners/2026-08-03/
LOCATION:Celery Flats Park\, 7328 Garden Ln\, Portage\, Michigan\, 49002\, United States
END:VEVENT
BEGIN:VEVENT
DTSTART;TZID=America/Detroit:20260810T180000
DTEND;TZID=America/Detroit:20260810T190000
DTSTAMP:20260424T010011
CREATED:20260423T212334Z
LAST-MODIFIED:20260424T014406Z
UID:10001824-1786384800-1786388400@dsawm.org
SUMMARY:Kalamazoo Rapid Runners
DESCRIPTION:This summer\, teens and adults with Down syndrome (ages 12 and up) are invited to join Rapid Runners\, a fun and supportive program where we train together for the Bronson Children’s Hospital 5K which is on September 27th! Although the program is called Rapid Runners\, there is absolutely no requirement for the participants to run. Participants can choose to walk or do a mix of walking and running at their own pace. We will meet at Celery Flats park on Mondays from 6pm-7pm each week to train. Participants are paired with volunteers for support and to build confidence. \n\n\n\nIndividuals with Down syndrome please register HERE if you are interested in participating! \n\n\n\nVolunteers please register HERE if you are interested in participating!  \n\n\n\nPlease email program@dsawm.org if you have any questions!
URL:https://dsawm.org/event/kalamazoo-rapid-runners/2026-08-10/
LOCATION:Celery Flats Park\, 7328 Garden Ln\, Portage\, Michigan\, 49002\, United States
END:VEVENT
BEGIN:VEVENT
DTSTART;TZID=America/Detroit:20260817T180000
DTEND;TZID=America/Detroit:20260817T190000
DTSTAMP:20260424T010011
CREATED:20260423T212334Z
LAST-MODIFIED:20260424T014406Z
UID:10001825-1786989600-1786993200@dsawm.org
SUMMARY:Kalamazoo Rapid Runners
DESCRIPTION:This summer\, teens and adults with Down syndrome (ages 12 and up) are invited to join Rapid Runners\, a fun and supportive program where we train together for the Bronson Children’s Hospital 5K which is on September 27th! Although the program is called Rapid Runners\, there is absolutely no requirement for the participants to run. Participants can choose to walk or do a mix of walking and running at their own pace. We will meet at Celery Flats park on Mondays from 6pm-7pm each week to train. Participants are paired with volunteers for support and to build confidence. \n\n\n\nIndividuals with Down syndrome please register HERE if you are interested in participating! \n\n\n\nVolunteers please register HERE if you are interested in participating!  \n\n\n\nPlease email program@dsawm.org if you have any questions!
URL:https://dsawm.org/event/kalamazoo-rapid-runners/2026-08-17/
LOCATION:Celery Flats Park\, 7328 Garden Ln\, Portage\, Michigan\, 49002\, United States
END:VEVENT
BEGIN:VEVENT
DTSTART;TZID=America/Detroit:20260824T180000
DTEND;TZID=America/Detroit:20260824T190000
DTSTAMP:20260424T010011
CREATED:20260423T212334Z
LAST-MODIFIED:20260424T014406Z
UID:10001826-1787594400-1787598000@dsawm.org
SUMMARY:Kalamazoo Rapid Runners
DESCRIPTION:This summer\, teens and adults with Down syndrome (ages 12 and up) are invited to join Rapid Runners\, a fun and supportive program where we train together for the Bronson Children’s Hospital 5K which is on September 27th! Although the program is called Rapid Runners\, there is absolutely no requirement for the participants to run. Participants can choose to walk or do a mix of walking and running at their own pace. We will meet at Celery Flats park on Mondays from 6pm-7pm each week to train. Participants are paired with volunteers for support and to build confidence. \n\n\n\nIndividuals with Down syndrome please register HERE if you are interested in participating! \n\n\n\nVolunteers please register HERE if you are interested in participating!  \n\n\n\nPlease email program@dsawm.org if you have any questions!
URL:https://dsawm.org/event/kalamazoo-rapid-runners/2026-08-24/
LOCATION:Celery Flats Park\, 7328 Garden Ln\, Portage\, Michigan\, 49002\, United States
END:VEVENT
BEGIN:VEVENT
DTSTART;TZID=America/Detroit:20260831T180000
DTEND;TZID=America/Detroit:20260831T190000
DTSTAMP:20260424T010011
CREATED:20260423T212334Z
LAST-MODIFIED:20260424T014406Z
UID:10001827-1788199200-1788202800@dsawm.org
SUMMARY:Kalamazoo Rapid Runners
DESCRIPTION:This summer\, teens and adults with Down syndrome (ages 12 and up) are invited to join Rapid Runners\, a fun and supportive program where we train together for the Bronson Children’s Hospital 5K which is on September 27th! Although the program is called Rapid Runners\, there is absolutely no requirement for the participants to run. Participants can choose to walk or do a mix of walking and running at their own pace. We will meet at Celery Flats park on Mondays from 6pm-7pm each week to train. Participants are paired with volunteers for support and to build confidence. \n\n\n\nIndividuals with Down syndrome please register HERE if you are interested in participating! \n\n\n\nVolunteers please register HERE if you are interested in participating!  \n\n\n\nPlease email program@dsawm.org if you have any questions!
URL:https://dsawm.org/event/kalamazoo-rapid-runners/2026-08-31/
LOCATION:Celery Flats Park\, 7328 Garden Ln\, Portage\, Michigan\, 49002\, United States
END:VEVENT
BEGIN:VEVENT
DTSTART;TZID=America/Detroit:20260914T180000
DTEND;TZID=America/Detroit:20260914T190000
DTSTAMP:20260424T010011
CREATED:20260423T212334Z
LAST-MODIFIED:20260424T014406Z
UID:10001828-1789408800-1789412400@dsawm.org
SUMMARY:Kalamazoo Rapid Runners
DESCRIPTION:This summer\, teens and adults with Down syndrome (ages 12 and up) are invited to join Rapid Runners\, a fun and supportive program where we train together for the Bronson Children’s Hospital 5K which is on September 27th! Although the program is called Rapid Runners\, there is absolutely no requirement for the participants to run. Participants can choose to walk or do a mix of walking and running at their own pace. We will meet at Celery Flats park on Mondays from 6pm-7pm each week to train. Participants are paired with volunteers for support and to build confidence. \n\n\n\nIndividuals with Down syndrome please register HERE if you are interested in participating! \n\n\n\nVolunteers please register HERE if you are interested in participating!  \n\n\n\nPlease email program@dsawm.org if you have any questions!
URL:https://dsawm.org/event/kalamazoo-rapid-runners/2026-09-14/
LOCATION:Celery Flats Park\, 7328 Garden Ln\, Portage\, Michigan\, 49002\, United States
END:VEVENT
BEGIN:VEVENT
DTSTART;TZID=America/Detroit:20260921T180000
DTEND;TZID=America/Detroit:20260921T190000
DTSTAMP:20260424T010011
CREATED:20260423T212334Z
LAST-MODIFIED:20260424T014406Z
UID:10001829-1790013600-1790017200@dsawm.org
SUMMARY:Kalamazoo Rapid Runners
DESCRIPTION:This summer\, teens and adults with Down syndrome (ages 12 and up) are invited to join Rapid Runners\, a fun and supportive program where we train together for the Bronson Children’s Hospital 5K which is on September 27th! Although the program is called Rapid Runners\, there is absolutely no requirement for the participants to run. Participants can choose to walk or do a mix of walking and running at their own pace. We will meet at Celery Flats park on Mondays from 6pm-7pm each week to train. Participants are paired with volunteers for support and to build confidence. \n\n\n\nIndividuals with Down syndrome please register HERE if you are interested in participating! \n\n\n\nVolunteers please register HERE if you are interested in participating!  \n\n\n\nPlease email program@dsawm.org if you have any questions!
URL:https://dsawm.org/event/kalamazoo-rapid-runners/2026-09-21/
LOCATION:Celery Flats Park\, 7328 Garden Ln\, Portage\, Michigan\, 49002\, United States
END:VEVENT
END:VCALENDAR