BEGIN:VCALENDAR
VERSION:2.0
PRODID:-//DSAWM - ECPv6.15.20//NONSGML v1.0//EN
CALSCALE:GREGORIAN
METHOD:PUBLISH
X-WR-CALNAME:DSAWM
X-ORIGINAL-URL:https://dsawm.org
X-WR-CALDESC:Events for DSAWM
REFRESH-INTERVAL;VALUE=DURATION:PT1H
X-Robots-Tag:noindex
X-PUBLISHED-TTL:PT1H
BEGIN:VTIMEZONE
TZID:America/Detroit
BEGIN:DAYLIGHT
TZOFFSETFROM:-0500
TZOFFSETTO:-0400
TZNAME:EDT
DTSTART:20240310T070000
END:DAYLIGHT
BEGIN:STANDARD
TZOFFSETFROM:-0400
TZOFFSETTO:-0500
TZNAME:EST
DTSTART:20241103T060000
END:STANDARD
BEGIN:DAYLIGHT
TZOFFSETFROM:-0500
TZOFFSETTO:-0400
TZNAME:EDT
DTSTART:20250309T070000
END:DAYLIGHT
BEGIN:STANDARD
TZOFFSETFROM:-0400
TZOFFSETTO:-0500
TZNAME:EST
DTSTART:20251102T060000
END:STANDARD
BEGIN:DAYLIGHT
TZOFFSETFROM:-0500
TZOFFSETTO:-0400
TZNAME:EDT
DTSTART:20260308T070000
END:DAYLIGHT
BEGIN:STANDARD
TZOFFSETFROM:-0400
TZOFFSETTO:-0500
TZNAME:EST
DTSTART:20261101T060000
END:STANDARD
END:VTIMEZONE
BEGIN:VEVENT
DTSTART;TZID=America/Detroit:20250429T163000
DTEND;TZID=America/Detroit:20250429T173000
DTSTAMP:20260425T122934
CREATED:20250324T203551Z
LAST-MODIFIED:20250324T203553Z
UID:10001338-1745944200-1745947800@dsawm.org
SUMMARY:Kalamazoo Theatre Class
DESCRIPTION:Tuesdays \n\n\n\n4:30pm-5:30pm \n\n\n\nApril 15th-May 13th \n\n\n\nDSAWM is partnering with the Kalamazoo Civic Theatre to offer a series of Theatre Classes! Step into a world of creativity and fun with Imagine That! Through games\, movement\, storytelling\, and improvisation\, students will explore big emotions\, build confidence\, and bring their imaginations to life. With a focus on play and self-expression\, this inclusive class welcomes members aged 5 and up to discover the joy of theatre in a supportive\, engaging environment. Whether acting out a favorite story\, creating new characters\, or playing interactive theatre games\, every class is filled with laughter\, learning\, and the magic of theatre! If you are interested in attending\, there are 2 quick registrations to complete. \n\n\n\nClick HERE for the theater’s registration (the code is Spring25) and click HERE for DSAWM registration.  \n\n\n\nPlease email program@dsawm.org if you have any questions.
URL:https://dsawm.org/event/kalamazoo-theatre-class/2025-04-29/
LOCATION:Carver Center Studio\, 426 S Park St\, Kalmazoo\, Michigan\, 49007\, United States
END:VEVENT
BEGIN:VEVENT
DTSTART;TZID=America/Detroit:20250428T183000
DTEND;TZID=America/Detroit:20250428T193000
DTSTAMP:20260425T122934
CREATED:20250417T194456Z
LAST-MODIFIED:20250417T194457Z
UID:10001345-1745865000-1745868600@dsawm.org
SUMMARY:Aging with Down Syndrome Meeting
DESCRIPTION:Caregivers of individuals with Down syndrome are invited to this support group that meets every month. The Aging with Down Syndrome Meetings are sponsored by DSAWM and Alzheimer’s Association. Participants share experiences and discuss the process of caring for loved ones growing older with Down syndrome.  \n\n\n\nPlease register HERE if you are interested in attending and email program@dsawm.org if you have any questions.
URL:https://dsawm.org/event/aging-with-down-syndrome-meeting-6/
LOCATION:Down Syndrome Association of West Michigan\, 160 68th St SW\, Grand Rapids\, 49548
END:VEVENT
BEGIN:VEVENT
DTSTART;TZID=America/Detroit:20250428T000000
DTEND;TZID=America/Detroit:20250428T235959
DTSTAMP:20260425T122934
CREATED:20250421T163716Z
LAST-MODIFIED:20250421T163718Z
UID:10001428-1745798400-1745884799@dsawm.org
SUMMARY:The Mitten Brewing Fundraiser
DESCRIPTION:Join us for a fundraiser at the Mitten Brewing! DSAWM will receive 50% of all food sales\, takeout and dine-in\, all day. DSAWM staff will be at the Mitten from 3 – 7 pm\, we would love to see you there! Stop in for a bite or grab a pizza to-go!
URL:https://dsawm.org/event/the-mitten-brewing-fundraiser/
LOCATION:The Mitten Brewing Company\, 527 Leonard St NW\, Grand Rapids\, Michigan\, 49504\, United States
END:VEVENT
BEGIN:VEVENT
DTSTART;TZID=America/Detroit:20250426T140000
DTEND;TZID=America/Detroit:20250426T153000
DTSTAMP:20260425T122934
CREATED:20250407T210312Z
LAST-MODIFIED:20250407T210439Z
UID:10001344-1745676000-1745681400@dsawm.org
SUMMARY:Disability Planning Workshop with Inclusive Futures
DESCRIPTION:Join us on April 26th from 2pm-3:30pm at SOMI in Meeting Room One for an informational Disability Planning Workshop with Jeff from Inclusive Futures. Inclusive Futures is a resource for the legal\, financial\, and social security issues that caregivers face now or in the future. This workshop is for families of all ages and stages. Topics will include key ages in the planning process\, estate planning\, first and third party trusts\, ABLE accounts\, insurance options\, government benefits\, and maintaining government benefits. \n\n\n\nIf you are interested in attending please register HERE! \n\n\n\nIf you have any questions please email program@dsawm.org
URL:https://dsawm.org/event/disability-planning-workshop-with-inclusive-futures/
LOCATION:Special Olympics Michigan Unified Sports & Inclusion Center\, 160 68th St SW\, Grand Rapids\, MI\, 49548
GEO:42.8398692;-85.6683176
X-APPLE-STRUCTURED-LOCATION;VALUE=URI;X-ADDRESS=Special Olympics Michigan Unified Sports & Inclusion Center 160 68th St SW Grand Rapids MI 49548;X-APPLE-RADIUS=500;X-TITLE=160 68th St SW:geo:-85.6683176,42.8398692
END:VEVENT
BEGIN:VEVENT
DTSTART;TZID=America/Detroit:20250426T100000
DTEND;TZID=America/Detroit:20250426T111500
DTSTAMP:20260425T122934
CREATED:20250106T201505Z
LAST-MODIFIED:20250108T185554Z
UID:10001285-1745661600-1745666100@dsawm.org
SUMMARY:CTC Therapeutic Play and Learn Group
DESCRIPTION:Saturdays  \n\n\n\nDSAWM Playroom \n\n\n\n10:00am-11:15am \n\n\n\nAges 0-5 \n\n\n\nWe are collaborating with the Comprehensive Therapy Center (CTC) to offer free Therapeutic Play and Learn groups again for more fun therapy and learning activities! This 5 week program will be on Saturdays from 10:00am-11:15am in the DSAWM playroom for members aged 0-5. These Therapeutic Play and Learn groups are facilitated by professionals such as Speech-Language Pathologists\, Occupational Therapists\, and Counselors. \n\n\n\nRegistration is open HERE! \n\n\n\nIf you have any questions please email program@dsawm.org
URL:https://dsawm.org/event/ctc-therapeutic-play-and-learn-group-2/2025-04-26/
LOCATION:Michigan
END:VEVENT
END:VCALENDAR