BEGIN:VCALENDAR
VERSION:2.0
PRODID:-//DSAWM - ECPv6.15.20//NONSGML v1.0//EN
CALSCALE:GREGORIAN
METHOD:PUBLISH
X-WR-CALNAME:DSAWM
X-ORIGINAL-URL:https://dsawm.org
X-WR-CALDESC:Events for DSAWM
REFRESH-INTERVAL;VALUE=DURATION:PT1H
X-Robots-Tag:noindex
X-PUBLISHED-TTL:PT1H
BEGIN:VTIMEZONE
TZID:America/Detroit
BEGIN:DAYLIGHT
TZOFFSETFROM:-0500
TZOFFSETTO:-0400
TZNAME:EDT
DTSTART:20250309T070000
END:DAYLIGHT
BEGIN:STANDARD
TZOFFSETFROM:-0400
TZOFFSETTO:-0500
TZNAME:EST
DTSTART:20251102T060000
END:STANDARD
BEGIN:DAYLIGHT
TZOFFSETFROM:-0500
TZOFFSETTO:-0400
TZNAME:EDT
DTSTART:20260308T070000
END:DAYLIGHT
BEGIN:STANDARD
TZOFFSETFROM:-0400
TZOFFSETTO:-0500
TZNAME:EST
DTSTART:20261101T060000
END:STANDARD
BEGIN:DAYLIGHT
TZOFFSETFROM:-0500
TZOFFSETTO:-0400
TZNAME:EDT
DTSTART:20270314T070000
END:DAYLIGHT
BEGIN:STANDARD
TZOFFSETFROM:-0400
TZOFFSETTO:-0500
TZNAME:EST
DTSTART:20271107T060000
END:STANDARD
END:VTIMEZONE
BEGIN:VEVENT
DTSTART;TZID=America/Detroit:20260212T140000
DTEND;TZID=America/Detroit:20260212T150000
DTSTAMP:20260425T085459
CREATED:20260128T211437Z
LAST-MODIFIED:20260128T211541Z
UID:10001773-1770904800-1770908400@dsawm.org
SUMMARY:Baby Sign Language
DESCRIPTION:DSAWM is partnering with Building Blocks Therapy Services to provide a 5-week Baby Sign Language program for members aged 0-5! The program will be Thursdays from 2:00pm-3:00pm in the DSAWM playroom (160 68th St. SW Suite 110 Grand Rapids\, MI 49548) and it will be led by a Speech Language Pathologist. The curriculum is adapted to support the unique motor\, sensory\, and communication needs of young children with Down syndrome. Each session offers predictable routines\, functional signs\, and hands-on opportunities for families to practice together. \n\n\n\nPlease register HERE if you are interested in participating!  \n\n\n\nPlease email program@dsawm.org if you have any questions!
URL:https://dsawm.org/event/baby-sign-language/2026-02-12/
LOCATION:Down Syndrome Association of West Michigan\, 160 68th St SW Ste. 110\, Grand Rapids\, Michigan\, 49548\, United States
END:VEVENT
BEGIN:VEVENT
DTSTART;TZID=America/Detroit:20260212T180000
DTEND;TZID=America/Detroit:20260212T193000
DTSTAMP:20260425T085459
CREATED:20251126T001546Z
LAST-MODIFIED:20260105T183246Z
UID:10001704-1770919200-1770924600@dsawm.org
SUMMARY:Grand Rapids Cooking Capers
DESCRIPTION:Grand Rapids Cooking Capers is a program led by GVSU nutrition students to teach independence in the kitchen for members 12 and older (members 12-15 must have a guardian present). We work on goals and learn kitchen safety\, measurements\, and more! We cook a delicious 3 course meal each week and enjoy socializing with others. Registrations are required so that we can make sure to accommodate all food allergies and purchase the correct amount of groceries.  \n\n\n\nPlease register HERE if you are interested in participating! \n\n\n\nPlease email program@dsawm.org if you have any questions.
URL:https://dsawm.org/event/grand-rapids-cooking-capers/2026-02-12/
LOCATION:Special Olympics Michigan Unified Sports & Inclusion Center\, 160 68th St SW\, Grand Rapids\, MI\, 49548
GEO:42.8398692;-85.6683176
X-APPLE-STRUCTURED-LOCATION;VALUE=URI;X-ADDRESS=Special Olympics Michigan Unified Sports & Inclusion Center 160 68th St SW Grand Rapids MI 49548;X-APPLE-RADIUS=500;X-TITLE=160 68th St SW:geo:-85.6683176,42.8398692
END:VEVENT
END:VCALENDAR