BEGIN:VCALENDAR
VERSION:2.0
PRODID:-//DSAWM - ECPv6.15.20//NONSGML v1.0//EN
CALSCALE:GREGORIAN
METHOD:PUBLISH
X-WR-CALNAME:DSAWM
X-ORIGINAL-URL:https://dsawm.org
X-WR-CALDESC:Events for DSAWM
REFRESH-INTERVAL;VALUE=DURATION:PT1H
X-Robots-Tag:noindex
X-PUBLISHED-TTL:PT1H
BEGIN:VTIMEZONE
TZID:America/Detroit
BEGIN:DAYLIGHT
TZOFFSETFROM:-0500
TZOFFSETTO:-0400
TZNAME:EDT
DTSTART:20250309T070000
END:DAYLIGHT
BEGIN:STANDARD
TZOFFSETFROM:-0400
TZOFFSETTO:-0500
TZNAME:EST
DTSTART:20251102T060000
END:STANDARD
BEGIN:DAYLIGHT
TZOFFSETFROM:-0500
TZOFFSETTO:-0400
TZNAME:EDT
DTSTART:20260308T070000
END:DAYLIGHT
BEGIN:STANDARD
TZOFFSETFROM:-0400
TZOFFSETTO:-0500
TZNAME:EST
DTSTART:20261101T060000
END:STANDARD
BEGIN:DAYLIGHT
TZOFFSETFROM:-0500
TZOFFSETTO:-0400
TZNAME:EDT
DTSTART:20270314T070000
END:DAYLIGHT
BEGIN:STANDARD
TZOFFSETFROM:-0400
TZOFFSETTO:-0500
TZNAME:EST
DTSTART:20271107T060000
END:STANDARD
END:VTIMEZONE
BEGIN:VEVENT
DTSTART;TZID=America/Detroit:20260119T170000
DTEND;TZID=America/Detroit:20260119T180000
DTSTAMP:20260425T231018
CREATED:20251118T185823Z
LAST-MODIFIED:20260119T182839Z
UID:10001614-1768842000-1768845600@dsawm.org
SUMMARY:Self Advocate Board Meeting
DESCRIPTION:
URL:https://dsawm.org/event/self-advocate-board-meeting-6/
LOCATION:DSAWM Board Room\, 160 68th St SW Suite 110\, Grand Rapids\, Michigan\, 49548\, United States
END:VEVENT
BEGIN:VEVENT
DTSTART;TZID=America/Detroit:20260119T180000
DTEND;TZID=America/Detroit:20260119T193000
DTSTAMP:20260425T231018
CREATED:20260107T200501Z
LAST-MODIFIED:20260119T182932Z
UID:10001630-1768845600-1768851000@dsawm.org
SUMMARY:Shape Up
DESCRIPTION:Shape Up is a fun and exciting health program for members 14 and older. NOTE: we will meet on Mondays in the Athlete Hub EXCEPT for January where we will meet in the Auditorium. It will still be from 6:00pm-7:30pm. There will be 45 minutes of nutrition education and 45 minutes of exercise. \n\n\n\nHere is the zoom link if you are unable to participate in person: https://zoom.us/j/94784309703?pwd=BhU4KLvZVQoiT5cbtghyLwD2IbkWzS.1 This zoom link will be the same for every week. \n\n\n\nPlease register HERE if you are interested in participating!  \n\n\n\nPlease email program@dsawm.org if you have any questions.
URL:https://dsawm.org/event/shape-up-6/
LOCATION:Special Olympics Michigan Unified Sports & Inclusion Center\, 160 68th St SW\, Grand Rapids\, MI\, 49548
GEO:42.8398692;-85.6683176
X-APPLE-STRUCTURED-LOCATION;VALUE=URI;X-ADDRESS=Special Olympics Michigan Unified Sports & Inclusion Center 160 68th St SW Grand Rapids MI 49548;X-APPLE-RADIUS=500;X-TITLE=160 68th St SW:geo:-85.6683176,42.8398692
END:VEVENT
END:VCALENDAR