BEGIN:VCALENDAR
VERSION:2.0
PRODID:-//DSAWM - ECPv6.15.20//NONSGML v1.0//EN
CALSCALE:GREGORIAN
METHOD:PUBLISH
X-WR-CALNAME:DSAWM
X-ORIGINAL-URL:https://dsawm.org
X-WR-CALDESC:Events for DSAWM
REFRESH-INTERVAL;VALUE=DURATION:PT1H
X-Robots-Tag:noindex
X-PUBLISHED-TTL:PT1H
BEGIN:VTIMEZONE
TZID:America/Detroit
BEGIN:DAYLIGHT
TZOFFSETFROM:-0500
TZOFFSETTO:-0400
TZNAME:EDT
DTSTART:20240310T070000
END:DAYLIGHT
BEGIN:STANDARD
TZOFFSETFROM:-0400
TZOFFSETTO:-0500
TZNAME:EST
DTSTART:20241103T060000
END:STANDARD
BEGIN:DAYLIGHT
TZOFFSETFROM:-0500
TZOFFSETTO:-0400
TZNAME:EDT
DTSTART:20250309T070000
END:DAYLIGHT
BEGIN:STANDARD
TZOFFSETFROM:-0400
TZOFFSETTO:-0500
TZNAME:EST
DTSTART:20251102T060000
END:STANDARD
BEGIN:DAYLIGHT
TZOFFSETFROM:-0500
TZOFFSETTO:-0400
TZNAME:EDT
DTSTART:20260308T070000
END:DAYLIGHT
BEGIN:STANDARD
TZOFFSETFROM:-0400
TZOFFSETTO:-0500
TZNAME:EST
DTSTART:20261101T060000
END:STANDARD
END:VTIMEZONE
BEGIN:VEVENT
DTSTART;TZID=America/Detroit:20251004T100000
DTEND;TZID=America/Detroit:20251004T131500
DTSTAMP:20260425T104508
CREATED:20250121T214003Z
LAST-MODIFIED:20250917T182128Z
UID:10001294-1759572000-1759583700@dsawm.org
SUMMARY:Adaptive Archery Clinic
DESCRIPTION:Join DSAWM and Kentwood Parks and Recreation on October 4th at the Kentwood Activities Center for an Adaptive Archery Clinic! This is for members that are 10 years and older. There are 2 sessions and we ask that you please only register for one session so that we can accommodate as many participants as possible. The first session will be from 10:00am-11:15am and the second session will be from 12:00pm-1:15pm. There is a limited number of spots available and they are first come first served so click HERE to sign up! \n\n\n\nPlease email program@dsawm.org if you have any questions.
URL:https://dsawm.org/event/adaptive-archery-clinic/
LOCATION:Kentwood Activities Center\, 355 48th St SE\, Grand Rapids\, 49548
END:VEVENT
BEGIN:VEVENT
DTSTART;TZID=America/Detroit:20251004T101500
DTEND;TZID=America/Detroit:20251004T114500
DTSTAMP:20260425T104508
CREATED:20250821T203654Z
LAST-MODIFIED:20250821T203658Z
UID:10001574-1759572900-1759578300@dsawm.org
SUMMARY:Buddy Up Tennis
DESCRIPTION:Saturdays \n\n\n\nMVP Athletic Club\, Crahen \n\n\n\n10:15am-11:45am \n\n\n\nAges 5+ \n\n\n\nBuddy Up Tennis is a 90-minute tennis and fitness program specifically created for individuals with Down syndrome\, our Athletes. Buddy volunteers are partnered with Athletes to provide support\, reinforce instruction\, and develop friendships. No tennis experience required!  \n\n\n\nNew Athletes please complete the Buddy Up Tennis Athlete Application and Release Form\, click HERE for registration\, and sign up on Sign Up Genius.  \n\n\n\nReturning Athletes please click HERE for registration and sign up on Sign Up Genius.  \n\n\n\nNew Buddies please complete the Buddy Up Tennis Buddy Application and Release\, click HERE to complete your Background Check/DSAWM Volunteer Form\, and sign up on Sign Up Genius. \n\n\n\nReturning Buddies please sign up on Sign Up Genius. \n\n\n\nPlease email GrandRapidsTennis@buforlife.org if you have any questions.
URL:https://dsawm.org/event/buddy-up-tennis-3/2025-10-04/
LOCATION:Michigan
END:VEVENT
END:VCALENDAR