BEGIN:VCALENDAR
VERSION:2.0
PRODID:-//DSAWM - ECPv6.15.20//NONSGML v1.0//EN
CALSCALE:GREGORIAN
METHOD:PUBLISH
X-ORIGINAL-URL:https://dsawm.org
X-WR-CALDESC:Events for DSAWM
REFRESH-INTERVAL;VALUE=DURATION:PT1H
X-Robots-Tag:noindex
X-PUBLISHED-TTL:PT1H
BEGIN:VTIMEZONE
TZID:America/Detroit
BEGIN:DAYLIGHT
TZOFFSETFROM:-0500
TZOFFSETTO:-0400
TZNAME:EDT
DTSTART:20240310T070000
END:DAYLIGHT
BEGIN:STANDARD
TZOFFSETFROM:-0400
TZOFFSETTO:-0500
TZNAME:EST
DTSTART:20241103T060000
END:STANDARD
BEGIN:DAYLIGHT
TZOFFSETFROM:-0500
TZOFFSETTO:-0400
TZNAME:EDT
DTSTART:20250309T070000
END:DAYLIGHT
BEGIN:STANDARD
TZOFFSETFROM:-0400
TZOFFSETTO:-0500
TZNAME:EST
DTSTART:20251102T060000
END:STANDARD
BEGIN:DAYLIGHT
TZOFFSETFROM:-0500
TZOFFSETTO:-0400
TZNAME:EDT
DTSTART:20260308T070000
END:DAYLIGHT
BEGIN:STANDARD
TZOFFSETFROM:-0400
TZOFFSETTO:-0500
TZNAME:EST
DTSTART:20261101T060000
END:STANDARD
END:VTIMEZONE
BEGIN:VEVENT
DTSTART;TZID=America/Detroit:20250624T100000
DTEND;TZID=America/Detroit:20250624T120000
DTSTAMP:20260425T150447
CREATED:20250426T143841Z
LAST-MODIFIED:20250426T143844Z
UID:10001430-1750759200-1750766400@dsawm.org
SUMMARY:Surf Camp
DESCRIPTION:Surf & Turf Therapy is a nonprofit organization committed to bettering lives through non-traditional therapeutic activities such as surfing. DSAWM and Surf & Turf are partnering this summer to offer 4 days of surf camp at Holland State Beach. This camp will be ran by Dr. Jillian who is a Physical Therapist and the founder of Surf & Turf Therapy. The focus is not only to have fun but also to address deficits in strength\, stability\, body awareness\, coordination\, safety awareness\, tone management\, flexibility\, attention and sensory integration. We are welcoming a small group of members with Down syndrome that are 5 years and older to join us June 23rd-June 26th from 10am-12pm. Life jackets and all other equipment will be provided. DSAWM is covering the cost for participants. Spots are first come\, first served.  \n\n\n\nPlease click HERE to complete the registration form if you are interested in participating. \n\n\n\nPlease email program@dsawm.org if you have any questions.
URL:https://dsawm.org/event/surf-camp/2025-06-24/
LOCATION:Holland State Beach\, 2398 Ottawa Beach Rd\, Holland\, Michigan\, 49424\, United States
END:VEVENT
BEGIN:VEVENT
DTSTART;TZID=America/Detroit:20250624T130000
DTEND;TZID=America/Detroit:20250624T160000
DTSTAMP:20260425T150447
CREATED:20250418T173050Z
LAST-MODIFIED:20250418T173053Z
UID:10001356-1750770000-1750780800@dsawm.org
SUMMARY:Summer Stars
DESCRIPTION:Summer Stars is a free program for children with Down syndrome aged 7-12 or in grades 1-6. Through a variety of thoughtfully designed activities\, including games\, crafts\, and outdoor play\, the program helps children make progress on their IEP (Individualized Education Program) goals while supporting their overall development. Summer Stars will take place Monday-Thursday from June 9th-August 7th skipping June 19th\, June 30th-July 3rd\, and July 21st-July 24th. The program runs from 1:00pm-4:00pm with an optional early drop-off available at 12:00pm and the option to stay for extra programming offered from 4:00pm-5:00pm. Spots are limited and will be filled on a first-come\, first-served basis so be sure to complete this application by May 8th to be considered for participation. \n\n\n\nPlease click HERE to complete the application if you have a child who is interested in attending Summer Stars. \n\n\n\nPlease email program@dsawm.org if you have any questions.
URL:https://dsawm.org/event/summer-stars-2/2025-06-24/
LOCATION:Down Syndrome Association of West Michigan\, 160 68th St SW\, Grand Rapids\, 49548
END:VEVENT
BEGIN:VEVENT
DTSTART;TZID=America/Detroit:20250624T160000
DTEND;TZID=America/Detroit:20250624T170000
DTSTAMP:20260425T150447
CREATED:20250420T214512Z
LAST-MODIFIED:20250602T132243Z
UID:10001388-1750780800-1750784400@dsawm.org
SUMMARY:Kids Sing-Along with Arts in Motion
DESCRIPTION:DSAWM is partnering with Arts in Motion for a fun and interactive Kids Sing-Along program on Tuesdays from 4pm-5pm. Bring your voices and sing along with your favorite songs\, from kids’ classics to Disney to radio hits. \n\n\n\nPlease register HERE if you would like to participate!  \n\n\n\nPlease email program@dsawm.org if you have any questions.
URL:https://dsawm.org/event/kids-sing-along-with-arts-in-motion/2025-06-24/
LOCATION:Special Olympics Michigan Unified Sports & Inclusion Center\, 160 68th St SW\, Grand Rapids\, MI\, 49548
GEO:42.8398692;-85.6683176
X-APPLE-STRUCTURED-LOCATION;VALUE=URI;X-ADDRESS=Special Olympics Michigan Unified Sports & Inclusion Center 160 68th St SW Grand Rapids MI 49548;X-APPLE-RADIUS=500;X-TITLE=160 68th St SW:geo:-85.6683176,42.8398692
END:VEVENT
BEGIN:VEVENT
DTSTART;TZID=America/Detroit:20250624T180000
DTEND;TZID=America/Detroit:20250624T190000
DTSTAMP:20260425T150447
CREATED:20250303T012622Z
LAST-MODIFIED:20250303T013144Z
UID:10001311-1750788000-1750791600@dsawm.org
SUMMARY:Book Club
DESCRIPTION:Every 2nd and 4th Tuesday of the Month  \n\n\n\n6:00pm-7:00pm \n\n\n\nSchuler Books \n\n\n\nAges 16+ \n\n\n\nTeens and adults with Down syndrome are invited to join Bobbi for Book Club at Schuler Books on 28th Street. Participants in Book Club will get the chance to read fun books with a group of their peers. After completing a book\, members will be invited to a movie night where they will watch a film based on the book they read. All reading levels are welcome. Book Club will meet in the Chapbook Café. \n\n\n\nPlease email program@dsawm.org with any questions.
URL:https://dsawm.org/event/book-club-5/2025-06-24/
LOCATION:Chapbook Cafe at Schuler Books\, 2660 28th St SE\, Grand Rapids\, MI\, 49512\, United States
GEO:42.911514;-85.6013985
X-APPLE-STRUCTURED-LOCATION;VALUE=URI;X-ADDRESS=Chapbook Cafe at Schuler Books 2660 28th St SE Grand Rapids MI 49512 United States;X-APPLE-RADIUS=500;X-TITLE=2660 28th St SE:geo:-85.6013985,42.911514
END:VEVENT
BEGIN:VEVENT
DTSTART;TZID=America/Detroit:20250624T180000
DTEND;TZID=America/Detroit:20250624T190000
DTSTAMP:20260425T150447
CREATED:20250618T155004Z
LAST-MODIFIED:20250618T155006Z
UID:10001458-1750788000-1750791600@dsawm.org
SUMMARY:Mom's Night Out
DESCRIPTION:Mom’s Night Out is a monthly program for mothers raising children with Down syndrome. Each month\, mom’s have the opportunity to enjoy different activities and come together to connect\, share stories\, and support each other. DSAWM covers the cost for first-time attendees (excluding alcohol). This month’s gathering is going to be at Amore Trattoria Italiana. \n\n\n\nPlease email Keri at dsmamas321@yahoo.com to RSVP or if you have any questions.
URL:https://dsawm.org/event/moms-night-out-9/
LOCATION:Amore Trattoria Italiana\, 5080 Alpine Ave NW\, Comstock Park\, Michigan\, 49321\, United States
END:VEVENT
END:VCALENDAR