BEGIN:VCALENDAR
VERSION:2.0
PRODID:-//DSAWM - ECPv6.15.20//NONSGML v1.0//EN
CALSCALE:GREGORIAN
METHOD:PUBLISH
X-WR-CALNAME:DSAWM
X-ORIGINAL-URL:https://dsawm.org
X-WR-CALDESC:Events for DSAWM
REFRESH-INTERVAL;VALUE=DURATION:PT1H
X-Robots-Tag:noindex
X-PUBLISHED-TTL:PT1H
BEGIN:VTIMEZONE
TZID:America/Detroit
BEGIN:DAYLIGHT
TZOFFSETFROM:-0500
TZOFFSETTO:-0400
TZNAME:EDT
DTSTART:20240310T070000
END:DAYLIGHT
BEGIN:STANDARD
TZOFFSETFROM:-0400
TZOFFSETTO:-0500
TZNAME:EST
DTSTART:20241103T060000
END:STANDARD
BEGIN:DAYLIGHT
TZOFFSETFROM:-0500
TZOFFSETTO:-0400
TZNAME:EDT
DTSTART:20250309T070000
END:DAYLIGHT
BEGIN:STANDARD
TZOFFSETFROM:-0400
TZOFFSETTO:-0500
TZNAME:EST
DTSTART:20251102T060000
END:STANDARD
BEGIN:DAYLIGHT
TZOFFSETFROM:-0500
TZOFFSETTO:-0400
TZNAME:EDT
DTSTART:20260308T070000
END:DAYLIGHT
BEGIN:STANDARD
TZOFFSETFROM:-0400
TZOFFSETTO:-0500
TZNAME:EST
DTSTART:20261101T060000
END:STANDARD
END:VTIMEZONE
BEGIN:VEVENT
DTSTART;TZID=America/Detroit:20250605T193000
DTEND;TZID=America/Detroit:20250605T220000
DTSTAMP:20260425T085504
CREATED:20250430T181809Z
LAST-MODIFIED:20250501T151811Z
UID:10001437-1749151800-1749160800@dsawm.org
SUMMARY:Grand Rapids Civic Theatre Production of Waitress
DESCRIPTION:We’re excited to partner with the Grand Rapids Civic Theatre as part of their Community Preview Night program! This special opportunity allows our members and families to enjoy an exclusive first look at upcoming productions. Join us for a free performance of Waitress on June 5\, 2025! \n\n\n\nPlease click HERE to reserve your tickets. \n\n\n\nPlease email program@dsawm.org if you have any questions.
URL:https://dsawm.org/event/grand-rapids-civic-theatre-production-of-waitress/
LOCATION:Grand Rapids Civic Theatre\, 30 Division Ave N\, Grand Rapids\, 49503\, United States
GEO:42.964194;-85.667622
X-APPLE-STRUCTURED-LOCATION;VALUE=URI;X-ADDRESS=Grand Rapids Civic Theatre 30 Division Ave N Grand Rapids 49503 United States;X-APPLE-RADIUS=500;X-TITLE=30 Division Ave N:geo:-85.667622,42.964194
END:VEVENT
END:VCALENDAR