BEGIN:VCALENDAR
VERSION:2.0
PRODID:-//DSAWM - ECPv6.15.20//NONSGML v1.0//EN
CALSCALE:GREGORIAN
METHOD:PUBLISH
X-ORIGINAL-URL:https://dsawm.org
X-WR-CALDESC:Events for DSAWM
REFRESH-INTERVAL;VALUE=DURATION:PT1H
X-Robots-Tag:noindex
X-PUBLISHED-TTL:PT1H
BEGIN:VTIMEZONE
TZID:America/Detroit
BEGIN:DAYLIGHT
TZOFFSETFROM:-0500
TZOFFSETTO:-0400
TZNAME:EDT
DTSTART:20240310T070000
END:DAYLIGHT
BEGIN:STANDARD
TZOFFSETFROM:-0400
TZOFFSETTO:-0500
TZNAME:EST
DTSTART:20241103T060000
END:STANDARD
BEGIN:DAYLIGHT
TZOFFSETFROM:-0500
TZOFFSETTO:-0400
TZNAME:EDT
DTSTART:20250309T070000
END:DAYLIGHT
BEGIN:STANDARD
TZOFFSETFROM:-0400
TZOFFSETTO:-0500
TZNAME:EST
DTSTART:20251102T060000
END:STANDARD
BEGIN:DAYLIGHT
TZOFFSETFROM:-0500
TZOFFSETTO:-0400
TZNAME:EDT
DTSTART:20260308T070000
END:DAYLIGHT
BEGIN:STANDARD
TZOFFSETFROM:-0400
TZOFFSETTO:-0500
TZNAME:EST
DTSTART:20261101T060000
END:STANDARD
END:VTIMEZONE
BEGIN:VEVENT
DTSTART;TZID=America/Detroit:20250528T183000
DTEND;TZID=America/Detroit:20250528T190000
DTSTAMP:20260425T070513
CREATED:20250513T172002Z
LAST-MODIFIED:20250513T184429Z
UID:10001440-1748457000-1748458800@dsawm.org
SUMMARY:Mom's Night Out
DESCRIPTION:Mom’s Night Out is a monthly program for mothers raising children with Down syndrome. Each month\, mom’s have the opportunity to enjoy different activities and come together to connect\, share stories\, and support each other. DSAWM covers the cost for first-time attendees. This month’s gathering is going to be at Break Room Therapy where you can physically release your frustrations in a safe space by using a bat to smash glass. Ever been told to scream into a pillow? Why be quiet? Let it go: scream if you are compelled to and just take that swing of a bat to a set of dishes and physically see your emotions release. It will be $35 a person.  \n\n\n\nA reservation needs to be made for this event so please email Keri at dsmamas321@yahoo.com to RSVP.
URL:https://dsawm.org/event/moms-night-out-8/
LOCATION:Break Room Therapy\, 7988 Clyde Park Ave SW\, Byron Center\, Michigan\, 49315\, United States
END:VEVENT
END:VCALENDAR