BEGIN:VCALENDAR
VERSION:2.0
PRODID:-//DSAWM - ECPv6.15.20//NONSGML v1.0//EN
CALSCALE:GREGORIAN
METHOD:PUBLISH
X-WR-CALNAME:DSAWM
X-ORIGINAL-URL:https://dsawm.org
X-WR-CALDESC:Events for DSAWM
REFRESH-INTERVAL;VALUE=DURATION:PT1H
X-Robots-Tag:noindex
X-PUBLISHED-TTL:PT1H
BEGIN:VTIMEZONE
TZID:America/Detroit
BEGIN:DAYLIGHT
TZOFFSETFROM:-0500
TZOFFSETTO:-0400
TZNAME:EDT
DTSTART:20240310T070000
END:DAYLIGHT
BEGIN:STANDARD
TZOFFSETFROM:-0400
TZOFFSETTO:-0500
TZNAME:EST
DTSTART:20241103T060000
END:STANDARD
BEGIN:DAYLIGHT
TZOFFSETFROM:-0500
TZOFFSETTO:-0400
TZNAME:EDT
DTSTART:20250309T070000
END:DAYLIGHT
BEGIN:STANDARD
TZOFFSETFROM:-0400
TZOFFSETTO:-0500
TZNAME:EST
DTSTART:20251102T060000
END:STANDARD
BEGIN:DAYLIGHT
TZOFFSETFROM:-0500
TZOFFSETTO:-0400
TZNAME:EDT
DTSTART:20260308T070000
END:DAYLIGHT
BEGIN:STANDARD
TZOFFSETFROM:-0400
TZOFFSETTO:-0500
TZNAME:EST
DTSTART:20261101T060000
END:STANDARD
END:VTIMEZONE
BEGIN:VEVENT
DTSTART;TZID=America/Detroit:20250513T163000
DTEND;TZID=America/Detroit:20250513T173000
DTSTAMP:20260425T085450
CREATED:20250324T203551Z
LAST-MODIFIED:20250324T203553Z
UID:10001340-1747153800-1747157400@dsawm.org
SUMMARY:Kalamazoo Theatre Class
DESCRIPTION:Tuesdays \n\n\n\n4:30pm-5:30pm \n\n\n\nApril 15th-May 13th \n\n\n\nDSAWM is partnering with the Kalamazoo Civic Theatre to offer a series of Theatre Classes! Step into a world of creativity and fun with Imagine That! Through games\, movement\, storytelling\, and improvisation\, students will explore big emotions\, build confidence\, and bring their imaginations to life. With a focus on play and self-expression\, this inclusive class welcomes members aged 5 and up to discover the joy of theatre in a supportive\, engaging environment. Whether acting out a favorite story\, creating new characters\, or playing interactive theatre games\, every class is filled with laughter\, learning\, and the magic of theatre! If you are interested in attending\, there are 2 quick registrations to complete. \n\n\n\nClick HERE for the theater’s registration (the code is Spring25) and click HERE for DSAWM registration.  \n\n\n\nPlease email program@dsawm.org if you have any questions.
URL:https://dsawm.org/event/kalamazoo-theatre-class/2025-05-13/
LOCATION:Carver Center Studio\, 426 S Park St\, Kalmazoo\, Michigan\, 49007\, United States
END:VEVENT
BEGIN:VEVENT
DTSTART;TZID=America/Detroit:20250513T180000
DTEND;TZID=America/Detroit:20250513T190000
DTSTAMP:20260425T085450
CREATED:20250303T012622Z
LAST-MODIFIED:20250303T013144Z
UID:10001308-1747159200-1747162800@dsawm.org
SUMMARY:Book Club
DESCRIPTION:Every 2nd and 4th Tuesday of the Month  \n\n\n\n6:00pm-7:00pm \n\n\n\nSchuler Books \n\n\n\nAges 16+ \n\n\n\nTeens and adults with Down syndrome are invited to join Bobbi for Book Club at Schuler Books on 28th Street. Participants in Book Club will get the chance to read fun books with a group of their peers. After completing a book\, members will be invited to a movie night where they will watch a film based on the book they read. All reading levels are welcome. Book Club will meet in the Chapbook Café. \n\n\n\nPlease email program@dsawm.org with any questions.
URL:https://dsawm.org/event/book-club-5/2025-05-13/
LOCATION:Chapbook Cafe at Schuler Books\, 2660 28th St SE\, Grand Rapids\, MI\, 49512\, United States
GEO:42.911514;-85.6013985
X-APPLE-STRUCTURED-LOCATION;VALUE=URI;X-ADDRESS=Chapbook Cafe at Schuler Books 2660 28th St SE Grand Rapids MI 49512 United States;X-APPLE-RADIUS=500;X-TITLE=2660 28th St SE:geo:-85.6013985,42.911514
END:VEVENT
END:VCALENDAR